BEGIN:VCALENDAR
VERSION:2.0
PRODID:-//GRÜNE Aarberg - ECPv6.15.15//NONSGML v1.0//EN
CALSCALE:GREGORIAN
METHOD:PUBLISH
X-WR-CALNAME:GRÜNE Aarberg
X-ORIGINAL-URL:https://gruene-aarberg.ch
X-WR-CALDESC:Veranstaltungen für GRÜNE Aarberg
REFRESH-INTERVAL;VALUE=DURATION:PT1H
X-Robots-Tag:noindex
X-PUBLISHED-TTL:PT1H
BEGIN:VTIMEZONE
TZID:Europe/Zurich
BEGIN:DAYLIGHT
TZOFFSETFROM:+0100
TZOFFSETTO:+0200
TZNAME:CEST
DTSTART:20250330T010000
END:DAYLIGHT
BEGIN:STANDARD
TZOFFSETFROM:+0200
TZOFFSETTO:+0100
TZNAME:CET
DTSTART:20251026T010000
END:STANDARD
BEGIN:DAYLIGHT
TZOFFSETFROM:+0100
TZOFFSETTO:+0200
TZNAME:CEST
DTSTART:20260329T010000
END:DAYLIGHT
BEGIN:STANDARD
TZOFFSETFROM:+0200
TZOFFSETTO:+0100
TZNAME:CET
DTSTART:20261025T010000
END:STANDARD
BEGIN:DAYLIGHT
TZOFFSETFROM:+0100
TZOFFSETTO:+0200
TZNAME:CEST
DTSTART:20270328T010000
END:DAYLIGHT
BEGIN:STANDARD
TZOFFSETFROM:+0200
TZOFFSETTO:+0100
TZNAME:CET
DTSTART:20271031T010000
END:STANDARD
END:VTIMEZONE
BEGIN:VEVENT
DTSTART;TZID=Europe/Zurich:20260125T103000
DTEND;TZID=Europe/Zurich:20260125T150000
DTSTAMP:20260426T054411
CREATED:20251216T202642Z
LAST-MODIFIED:20251216T204148Z
UID:5410-1769337000-1769353200@gruene-aarberg.ch
SUMMARY:Wahlbrunch der GRÜNEN Seeland-Biel
DESCRIPTION:
URL:https://gruene-aarberg.ch/event/wahlbrunch-2026-seeland-biel
LOCATION:Von Rütte Gut\, Seestrasse 6\, Sutz-Lattrigen\, Bern\, Switzerland
CATEGORIES:Veranstaltungen
END:VEVENT
END:VCALENDAR